BEGIN:VCALENDAR
VERSION:2.0
PRODID:-//Quay Church - ECPv6.15.18//NONSGML v1.0//EN
CALSCALE:GREGORIAN
METHOD:PUBLISH
X-WR-CALNAME:Quay Church
X-ORIGINAL-URL:https://quaychurch.org
X-WR-CALDESC:Events for Quay Church
REFRESH-INTERVAL;VALUE=DURATION:PT1H
X-Robots-Tag:noindex
X-PUBLISHED-TTL:PT1H
BEGIN:VTIMEZONE
TZID:America/New_York
BEGIN:DAYLIGHT
TZOFFSETFROM:-0500
TZOFFSETTO:-0400
TZNAME:EDT
DTSTART:20250309T070000
END:DAYLIGHT
BEGIN:STANDARD
TZOFFSETFROM:-0400
TZOFFSETTO:-0500
TZNAME:EST
DTSTART:20251102T060000
END:STANDARD
BEGIN:DAYLIGHT
TZOFFSETFROM:-0500
TZOFFSETTO:-0400
TZNAME:EDT
DTSTART:20260308T070000
END:DAYLIGHT
BEGIN:STANDARD
TZOFFSETFROM:-0400
TZOFFSETTO:-0500
TZNAME:EST
DTSTART:20261101T060000
END:STANDARD
BEGIN:DAYLIGHT
TZOFFSETFROM:-0500
TZOFFSETTO:-0400
TZNAME:EDT
DTSTART:20270314T070000
END:DAYLIGHT
BEGIN:STANDARD
TZOFFSETFROM:-0400
TZOFFSETTO:-0500
TZNAME:EST
DTSTART:20271107T060000
END:STANDARD
END:VTIMEZONE
BEGIN:VEVENT
DTSTART;TZID=America/New_York:20260503T080000
DTEND;TZID=America/New_York:20260503T183000
DTSTAMP:20260424T122847
CREATED:20260420T181959Z
LAST-MODIFIED:20260420T182207Z
UID:10002994-1777795200-1777833000@quaychurch.org
SUMMARY:no rivals | sunday collection of conversations
DESCRIPTION:In a world full of competing voices and divided loyalties\, the book of Colossians calls us back to one unshakable truth: Jesus Christ stands alone. There are no rivals to His authority\, no additions needed to His work\, and no substitutes for His presence. He is the image of the invisible God\, the Creator of all\, and the head of the Church. Because of who Christ is\, our lives are meant to reflect a new reality—set apart\, transformed\, and rooted in Him. \nNo Rivals invites us to lay down lesser allegiances\, reject empty philosophies\, and fully embrace a life centered on Christ alone.
URL:https://quaychurch.org/event/no-rivals-sunday-collection-of-conversations/2026-05-03/
CATEGORIES:quaychurch
ATTACH;FMTTYPE=image/jpeg:https://quaychurch.org/wp-content/uploads/2026/04/WEBSITE_NO_RIVALS_B.jpg
END:VEVENT
BEGIN:VEVENT
DTSTART;TZID=America/New_York:20260510T080000
DTEND;TZID=America/New_York:20260510T183000
DTSTAMP:20260424T122847
CREATED:20260420T181959Z
LAST-MODIFIED:20260420T182207Z
UID:10002995-1778400000-1778437800@quaychurch.org
SUMMARY:no rivals | sunday collection of conversations
DESCRIPTION:In a world full of competing voices and divided loyalties\, the book of Colossians calls us back to one unshakable truth: Jesus Christ stands alone. There are no rivals to His authority\, no additions needed to His work\, and no substitutes for His presence. He is the image of the invisible God\, the Creator of all\, and the head of the Church. Because of who Christ is\, our lives are meant to reflect a new reality—set apart\, transformed\, and rooted in Him. \nNo Rivals invites us to lay down lesser allegiances\, reject empty philosophies\, and fully embrace a life centered on Christ alone.
URL:https://quaychurch.org/event/no-rivals-sunday-collection-of-conversations/2026-05-10/
CATEGORIES:quaychurch
ATTACH;FMTTYPE=image/jpeg:https://quaychurch.org/wp-content/uploads/2026/04/WEBSITE_NO_RIVALS_B.jpg
END:VEVENT
BEGIN:VEVENT
DTSTART;TZID=America/New_York:20260517T080000
DTEND;TZID=America/New_York:20260517T183000
DTSTAMP:20260424T122847
CREATED:20260420T181959Z
LAST-MODIFIED:20260420T182207Z
UID:10002996-1779004800-1779042600@quaychurch.org
SUMMARY:no rivals | sunday collection of conversations
DESCRIPTION:In a world full of competing voices and divided loyalties\, the book of Colossians calls us back to one unshakable truth: Jesus Christ stands alone. There are no rivals to His authority\, no additions needed to His work\, and no substitutes for His presence. He is the image of the invisible God\, the Creator of all\, and the head of the Church. Because of who Christ is\, our lives are meant to reflect a new reality—set apart\, transformed\, and rooted in Him. \nNo Rivals invites us to lay down lesser allegiances\, reject empty philosophies\, and fully embrace a life centered on Christ alone.
URL:https://quaychurch.org/event/no-rivals-sunday-collection-of-conversations/2026-05-17/
CATEGORIES:quaychurch
ATTACH;FMTTYPE=image/jpeg:https://quaychurch.org/wp-content/uploads/2026/04/WEBSITE_NO_RIVALS_B.jpg
END:VEVENT
BEGIN:VEVENT
DTSTART;TZID=America/New_York:20260524T080000
DTEND;TZID=America/New_York:20260524T183000
DTSTAMP:20260424T122847
CREATED:20260420T181959Z
LAST-MODIFIED:20260420T182207Z
UID:10002997-1779609600-1779647400@quaychurch.org
SUMMARY:no rivals | sunday collection of conversations
DESCRIPTION:In a world full of competing voices and divided loyalties\, the book of Colossians calls us back to one unshakable truth: Jesus Christ stands alone. There are no rivals to His authority\, no additions needed to His work\, and no substitutes for His presence. He is the image of the invisible God\, the Creator of all\, and the head of the Church. Because of who Christ is\, our lives are meant to reflect a new reality—set apart\, transformed\, and rooted in Him. \nNo Rivals invites us to lay down lesser allegiances\, reject empty philosophies\, and fully embrace a life centered on Christ alone.
URL:https://quaychurch.org/event/no-rivals-sunday-collection-of-conversations/2026-05-24/
CATEGORIES:quaychurch
ATTACH;FMTTYPE=image/jpeg:https://quaychurch.org/wp-content/uploads/2026/04/WEBSITE_NO_RIVALS_B.jpg
END:VEVENT
BEGIN:VEVENT
DTSTART;TZID=America/New_York:20260531T080000
DTEND;TZID=America/New_York:20260531T183000
DTSTAMP:20260424T122847
CREATED:20260420T181959Z
LAST-MODIFIED:20260420T182207Z
UID:10002998-1780214400-1780252200@quaychurch.org
SUMMARY:no rivals | sunday collection of conversations
DESCRIPTION:In a world full of competing voices and divided loyalties\, the book of Colossians calls us back to one unshakable truth: Jesus Christ stands alone. There are no rivals to His authority\, no additions needed to His work\, and no substitutes for His presence. He is the image of the invisible God\, the Creator of all\, and the head of the Church. Because of who Christ is\, our lives are meant to reflect a new reality—set apart\, transformed\, and rooted in Him. \nNo Rivals invites us to lay down lesser allegiances\, reject empty philosophies\, and fully embrace a life centered on Christ alone.
URL:https://quaychurch.org/event/no-rivals-sunday-collection-of-conversations/2026-05-31/
CATEGORIES:quaychurch
ATTACH;FMTTYPE=image/jpeg:https://quaychurch.org/wp-content/uploads/2026/04/WEBSITE_NO_RIVALS_B.jpg
END:VEVENT
BEGIN:VEVENT
DTSTART;TZID=America/New_York:20260607T080000
DTEND;TZID=America/New_York:20260607T183000
DTSTAMP:20260424T122847
CREATED:20260420T181959Z
LAST-MODIFIED:20260420T182207Z
UID:10002999-1780819200-1780857000@quaychurch.org
SUMMARY:no rivals | sunday collection of conversations
DESCRIPTION:In a world full of competing voices and divided loyalties\, the book of Colossians calls us back to one unshakable truth: Jesus Christ stands alone. There are no rivals to His authority\, no additions needed to His work\, and no substitutes for His presence. He is the image of the invisible God\, the Creator of all\, and the head of the Church. Because of who Christ is\, our lives are meant to reflect a new reality—set apart\, transformed\, and rooted in Him. \nNo Rivals invites us to lay down lesser allegiances\, reject empty philosophies\, and fully embrace a life centered on Christ alone.
URL:https://quaychurch.org/event/no-rivals-sunday-collection-of-conversations/2026-06-07/
CATEGORIES:quaychurch
ATTACH;FMTTYPE=image/jpeg:https://quaychurch.org/wp-content/uploads/2026/04/WEBSITE_NO_RIVALS_B.jpg
END:VEVENT
BEGIN:VEVENT
DTSTART;TZID=America/New_York:20260614T080000
DTEND;TZID=America/New_York:20260614T183000
DTSTAMP:20260424T122847
CREATED:20260420T181959Z
LAST-MODIFIED:20260420T182207Z
UID:10003000-1781424000-1781461800@quaychurch.org
SUMMARY:no rivals | sunday collection of conversations
DESCRIPTION:In a world full of competing voices and divided loyalties\, the book of Colossians calls us back to one unshakable truth: Jesus Christ stands alone. There are no rivals to His authority\, no additions needed to His work\, and no substitutes for His presence. He is the image of the invisible God\, the Creator of all\, and the head of the Church. Because of who Christ is\, our lives are meant to reflect a new reality—set apart\, transformed\, and rooted in Him. \nNo Rivals invites us to lay down lesser allegiances\, reject empty philosophies\, and fully embrace a life centered on Christ alone.
URL:https://quaychurch.org/event/no-rivals-sunday-collection-of-conversations/2026-06-14/
CATEGORIES:quaychurch
ATTACH;FMTTYPE=image/jpeg:https://quaychurch.org/wp-content/uploads/2026/04/WEBSITE_NO_RIVALS_B.jpg
END:VEVENT
BEGIN:VEVENT
DTSTART;TZID=America/New_York:20260621T080000
DTEND;TZID=America/New_York:20260621T183000
DTSTAMP:20260424T122847
CREATED:20260420T181959Z
LAST-MODIFIED:20260420T182207Z
UID:10003001-1782028800-1782066600@quaychurch.org
SUMMARY:no rivals | sunday collection of conversations
DESCRIPTION:In a world full of competing voices and divided loyalties\, the book of Colossians calls us back to one unshakable truth: Jesus Christ stands alone. There are no rivals to His authority\, no additions needed to His work\, and no substitutes for His presence. He is the image of the invisible God\, the Creator of all\, and the head of the Church. Because of who Christ is\, our lives are meant to reflect a new reality—set apart\, transformed\, and rooted in Him. \nNo Rivals invites us to lay down lesser allegiances\, reject empty philosophies\, and fully embrace a life centered on Christ alone.
URL:https://quaychurch.org/event/no-rivals-sunday-collection-of-conversations/2026-06-21/
CATEGORIES:quaychurch
ATTACH;FMTTYPE=image/jpeg:https://quaychurch.org/wp-content/uploads/2026/04/WEBSITE_NO_RIVALS_B.jpg
END:VEVENT
BEGIN:VEVENT
DTSTART;TZID=America/New_York:20260628T080000
DTEND;TZID=America/New_York:20260628T183000
DTSTAMP:20260424T122847
CREATED:20260420T181959Z
LAST-MODIFIED:20260420T182207Z
UID:10003002-1782633600-1782671400@quaychurch.org
SUMMARY:no rivals | sunday collection of conversations
DESCRIPTION:In a world full of competing voices and divided loyalties\, the book of Colossians calls us back to one unshakable truth: Jesus Christ stands alone. There are no rivals to His authority\, no additions needed to His work\, and no substitutes for His presence. He is the image of the invisible God\, the Creator of all\, and the head of the Church. Because of who Christ is\, our lives are meant to reflect a new reality—set apart\, transformed\, and rooted in Him. \nNo Rivals invites us to lay down lesser allegiances\, reject empty philosophies\, and fully embrace a life centered on Christ alone.
URL:https://quaychurch.org/event/no-rivals-sunday-collection-of-conversations/2026-06-28/
CATEGORIES:quaychurch
ATTACH;FMTTYPE=image/jpeg:https://quaychurch.org/wp-content/uploads/2026/04/WEBSITE_NO_RIVALS_B.jpg
END:VEVENT
END:VCALENDAR